BEGIN:VCALENDAR
VERSION:2.0
PRODID:SchoolNow
CALSCALE:GREGORIAN
BEGIN:VEVENT
UID:75847a06-6d14-11ee-ab34-02c4d44f01d9
DTSTAMP:20231017T174153Z
SUMMARY:COA Board Meeting 1:30PM
LOCATION:Harborage Recreation Center
URL;VALUE=URI:https://www.harbouragecdd.org/calendar/4875080/coa-board-meet
 ing-clone-clone-clone-clone-clone-clone-clone-clone-clone-clone-clone-clon
 e-clone-clone-clone-clone-clone-clone-clone-clone-clone-clone
DTSTART:20241216T183000Z
DTEND:20241216T203000Z
END:VEVENT
END:VCALENDAR
