BEGIN:VCALENDAR
VERSION:2.0
PRODID:SchoolNow
CALSCALE:GREGORIAN
BEGIN:VEVENT
UID:0c24d09c-d272-11ee-9048-0a58a9feac02
DTSTAMP:20240223T173616Z
SUMMARY:Community Trivia Night 7PM-9:30PM
URL;VALUE=URI:https://www.harbouragecdd.org/calendar/5388127/community-triv
 ia-night-clone-clone-clone-clone-clone-clone-clone
DTSTART:20241218T230000Z
DTEND:20241219T030000Z
END:VEVENT
END:VCALENDAR
