BEGIN:VCALENDAR
VERSION:2.0
PRODID:SchoolNow
CALSCALE:GREGORIAN
BEGIN:VEVENT
UID:e7856c2c-019e-11ef-9fb9-0a58a9feac02
DTSTAMP:20240423T182547Z
SUMMARY:COA Landscape Meeting 10AM - 12PM
URL;VALUE=URI:https://www.harbouragecdd.org/calendar/5843275/coa-landscape-
 meeting-10am-12pm-clone-clone-clone-clone-clone-clone-clone-clone-clone-cl
 one-clone-clone-clone-clone-clone-clone-clone-clone-clone-clone-clone
DTSTART:20241217T150000Z
DTEND:20241217T170000Z
END:VEVENT
END:VCALENDAR
