BEGIN:VCALENDAR
VERSION:2.0
PRODID:SchoolNow
CALSCALE:GREGORIAN
BEGIN:VEVENT
UID:07ddb91c-6d55-11ef-a11a-0a58a9feac02
DTSTAMP:20241204T215120Z
SUMMARY:CDD Board Meeting 1PM - Dec  2024
LOCATION:the Harbourage Recreation Center\, located at 5705 Key West Place\
 , Bradenton\, Florida 34203
URL;VALUE=URI:https://www.harbouragecdd.org/calendar/6547981/cdd-board-meet
 ing-1pm-oct-2022-clone-clone-clone-clone-clone-clone-clone-clone-clone-clo
 ne-clone-clone-clone-clone-clone
DTSTART:20241211T180000Z
DTEND:20241211T200000Z
ATTACH;FILENAME=2024-12-11- Harbourage at Braden River CDD- Final Agenda.pd
 f;FMTTYPE=application/pdf:https://campussuite-storage.s3.amazonaws.com/pro
 d/1558878/ded625e8-ea98-11e9-b7bf-0a20d2c7fac4/2887095/e15b66ac-b289-11ef-
 b219-0a58a9feac02/file/2024-12-11- Harbourage at Braden River CDD- Final A
 genda.pdf
END:VEVENT
END:VCALENDAR
