BEGIN:VCALENDAR
VERSION:2.0
PRODID:SchoolNow
CALSCALE:GREGORIAN
BEGIN:VEVENT
UID:0bb900b4-7205-11ef-9dec-0a58a9feac02
DTSTAMP:20240913T191906Z
SUMMARY:Game Group 1PM-4PM (Private Event)
URL;VALUE=URI:https://www.harbouragecdd.org/calendar/6597239/community-game
 -night-clone-clone-clone-clone-clone-clone-clone-clone-clone-clone-clone-c
 lone-clone-clone-clone-clone-clone-clone-clone-clone-clone-clone-clone-clo
 ne-clone-clone-clone-clone-clone-clone-clone-clone-clone-clone-clone-clone
 -clone-clone-clone-
DTSTART:20241203T180000Z
DTEND:20241203T210000Z
END:VEVENT
END:VCALENDAR
