BEGIN:VCALENDAR
VERSION:2.0
PRODID:SchoolNow
CALSCALE:GREGORIAN
BEGIN:VEVENT
UID:18e89934-7205-11ef-9f7d-0a58a9feac02
DTSTAMP:20240913T191929Z
SUMMARY:Game Group 1PM-4PM (Private Event)
URL;VALUE=URI:https://www.harbouragecdd.org/calendar/6597242/community-game
 -night-clone-clone-clone-clone-clone-clone-clone-clone-clone-clone-clone-c
 lone-clone-clone-clone-clone-clone-clone-clone-clone-clone-clone-clone-clo
 ne-clone-clone-clone-clone-clone-clone-clone-clone-clone-clone-clone-clone
 -clone-clone-clone-
DTSTART:20241217T180000Z
DTEND:20241217T210000Z
END:VEVENT
END:VCALENDAR
