BEGIN:VCALENDAR
VERSION:2.0
PRODID:SchoolNow
CALSCALE:GREGORIAN
BEGIN:VEVENT
UID:204c1b60-7205-11ef-ad1e-027c7a95ffdd
DTSTAMP:20240913T191941Z
SUMMARY:Game Group 1PM-4PM (Private Event)
URL;VALUE=URI:https://www.harbouragecdd.org/calendar/6597243/community-game
 -night-clone-clone-clone-clone-clone-clone-clone-clone-clone-clone-clone-c
 lone-clone-clone-clone-clone-clone-clone-clone-clone-clone-clone-clone-clo
 ne-clone-clone-clone-clone-clone-clone-clone-clone-clone-clone-clone-clone
 -clone-clone-clone-
DTSTART:20241224T180000Z
DTEND:20241224T210000Z
END:VEVENT
END:VCALENDAR
