BEGIN:VCALENDAR
VERSION:2.0
PRODID:SchoolNow
CALSCALE:GREGORIAN
BEGIN:VEVENT
UID:ae3a38f8-7205-11ef-b1e0-028b56d159a1
DTSTAMP:20240913T192339Z
SUMMARY:Yoga/2 Classes  - Fitness Yoga 10-11AM and Yoga Lite & Chair-Assist
 ed Yoga 11AM-Noon
LOCATION:5705 Key West Place (Clubhouse Meeting Room)
URL;VALUE=URI:https://www.harbouragecdd.org/calendar/6597257/beginers-fitne
 ss-yoga-clone-clone-clone-clone-clone-clone-clone-clone-clone-clone-clone-
 clone-clone-clone-clone-clone-clone-clone-clone-clone-clone-clone-clone-cl
 one-clone-clone-clone-clone-clone-clone-clone-clone-clone-clone-clone-clon
 e-clone-clone-clone
DTSTART:20241204T150000Z
DTEND:20241204T170000Z
END:VEVENT
END:VCALENDAR
