BEGIN:VCALENDAR
VERSION:2.0
PRODID:SchoolNow
CALSCALE:GREGORIAN
BEGIN:VEVENT
UID:b94eb4d0-7205-11ef-a0b9-0a58a9feac02
DTSTAMP:20240913T192358Z
SUMMARY:Fitness Yoga  2:30-3:30PM
LOCATION:5705 Key West Place (Clubhouse Meeting Room)
URL;VALUE=URI:https://www.harbouragecdd.org/calendar/6597258/beginers-fitne
 ss-yoga-clone-clone-clone-clone-clone-clone-clone-clone-clone-clone-clone-
 clone-clone-clone-clone-clone-clone-clone-clone-clone-clone-clone-clone-cl
 one-clone-clone-clone-clone-clone-clone-clone-clone-clone-clone-clone-clon
 e-clone-clone-clone
DTSTART:20241214T193000Z
DTEND:20241214T203000Z
END:VEVENT
END:VCALENDAR
