BEGIN:VCALENDAR
VERSION:2.0
PRODID:SchoolNow
CALSCALE:GREGORIAN
BEGIN:VEVENT
UID:e257be94-7205-11ef-a51f-0afff3f87517
DTSTAMP:20240913T192506Z
SUMMARY:Yoga/2 Classes  - Fitness Yoga 10-11AM and Yoga Lite & Chair-Assist
 ed Yoga 11AM-Noon
LOCATION:5705 Key West Place (Clubhouse Meeting Room)
URL;VALUE=URI:https://www.harbouragecdd.org/calendar/6597263/beginers-fitne
 ss-yoga-clone-clone-clone-clone-clone-clone-clone-clone-clone-clone-clone-
 clone-clone-clone-clone-clone-clone-clone-clone-clone-clone-clone-clone-cl
 one-clone-clone-clone-clone-clone-clone-clone-clone-clone-clone-clone-clon
 e-clone-clone-clone
DTSTART:20241218T150000Z
DTEND:20241218T170000Z
END:VEVENT
END:VCALENDAR
