BEGIN:VCALENDAR
VERSION:2.0
PRODID:SchoolNow
CALSCALE:GREGORIAN
BEGIN:VEVENT
UID:1e5a3e1c-bc9d-11ef-9b4b-025741e8dd3d
DTSTAMP:20241217T173407Z
SUMMARY:Fitness Yoga  2:30-3:30PM (Cancelled)
LOCATION:5705 Key West Place (Clubhouse Meeting Room)
URL;VALUE=URI:https://www.harbouragecdd.org/calendar/7186397/beginers-fitne
 ss-yoga-clone-clone-clone-clone-clone-clone-clone-clone-clone-clone-clone-
 clone-clone-clone-clone-clone-clone-clone-clone-clone-clone-clone-clone-cl
 one-clone-clone-clone-clone-clone-clone-clone-clone-clone-clone-clone-clon
 e-clone-clone-clone
DTSTART:20241228T193000Z
DTEND:20241228T203000Z
END:VEVENT
END:VCALENDAR
