BEGIN:VCALENDAR
VERSION:2.0
PRODID:SchoolNow
CALSCALE:GREGORIAN
BEGIN:VEVENT
UID:6016bd5e-bd78-11ef-a8e2-0a58a9feac02
DTSTAMP:20241218T194337Z
SUMMARY:COA Board Meeting 1:30PM
LOCATION:Harborage Recreation Center
URL;VALUE=URI:https://www.harbouragecdd.org/calendar/7192784/coa-board-meet
 ing-clone-clone-clone-clone-clone-clone-clone-clone-clone-clone-clone-clon
 e-clone-clone-clone-clone-clone-clone-clone-clone-clone-clone-clone
DTSTART:20241218T183000Z
DTEND:20241218T203000Z
END:VEVENT
END:VCALENDAR
