BEGIN:VCALENDAR
VERSION:2.0
PRODID:SchoolNow
CALSCALE:GREGORIAN
BEGIN:VEVENT
UID:97d7709a-bf07-11ef-a7a7-0268c9af9d41
DTSTAMP:20241220T192120Z
SUMMARY:Clubhouse Reserved - Private Event (4PM - 1AM)
URL;VALUE=URI:https://www.harbouragecdd.org/calendar/7201471/clubhouse-rese
 rved-private-event-1pm-6pm-clone-clone
DTSTART:20241231T210000Z
DTEND:20250101T060000Z
END:VEVENT
END:VCALENDAR
