BEGIN:VCALENDAR
VERSION:2.0
PRODID:SchoolNow
CALSCALE:GREGORIAN
BEGIN:VEVENT
UID:97f63330-bf08-11ef-bf04-028ca33ecb31
DTSTAMP:20241220T192830Z
SUMMARY:Clubhouse Reserved - Private Event (4PM - 1AM)
URL;VALUE=URI:https://www.harbouragecdd.org/calendar/7201576/clubhouse-rese
 rved-private-event-1pm-6pm-clone-clone-clone
DTSTART:20241222T180000Z
DTEND:20241222T210000Z
END:VEVENT
END:VCALENDAR
